BEGIN:VCALENDAR
VERSION:2.0
PRODID:-//eventon.com NONSGML v1.0//EN
CALSCALE:GREGORIAN
METHOD:PUBLISH
BEGIN:VEVENT
UID:69e83abfa7a5a
DTSTAMP:20260422T030431Z
DTSTART:20211121T093000Z
DTEND:20211121T120000Z
LOCATION:
SUMMARY:Sustainability Market - Stoke Abbot Road
DESCRIPTION:Market day is fast approaching! Pop along from 9:30am &#8211; 2
 pm on Sunday the 21 of November 2021. Location: Freedom works Car Park\,  S
 toke Abbott Road Artisan suppliers\,  sustainable market. Local small food 
 producers &amp; Trainers.\nhttps://www.freedomworks.space/events/sustainabi
 lity-market-stoke-abbot-road/
URL:https://www.freedomworks.space/events/sustainability-market-stoke-abbot-road/
END:VEVENT
END:VCALENDAR