BEGIN:VCALENDAR
VERSION:2.0
PRODID:-//eventon.com NONSGML v1.0//EN
CALSCALE:GREGORIAN
METHOD:PUBLISH
BEGIN:VEVENT
UID:69e797a642f89
DTSTAMP:20260421T152838Z
DTSTART:20231214T120000Z
DTEND:20231214T130000Z
LOCATION:
SUMMARY:Hastings Christmas Shared Lunch
DESCRIPTION:Hastings members&#8217; lunch is on the 14th of December! Meet 
 your neighbor and have some tasty snacks; feel free to bring to show off yo
 ur culinary skills and bring a dish! Many a collaboration has been done whi
 le chowing down on a sarnie! Let us know are joining! hastings@freedomworks
 .space\nhttps://www.freedomworks.space/events/hastings-christmas-shared-lun
 ch/
URL:https://www.freedomworks.space/events/hastings-christmas-shared-lunch/
END:VEVENT
END:VCALENDAR