BEGIN:VCALENDAR
VERSION:2.0
PRODID:-//eventon.com NONSGML v1.0//EN
CALSCALE:GREGORIAN
METHOD:PUBLISH
BEGIN:VEVENT
UID:69ea4b8376cad
DTSTAMP:20260423T164035Z
DTSTART:20241031T100000Z
DTEND:20241031T110000Z
LOCATION:The Palace Workspace 1-3 Robertson Street Hastings
SUMMARY:The Haunted Palace Coffee Morning
DESCRIPTION:The Haunted Palace Coffee Morning Get into the Halloween spirit
  with a special edition of our Coffee Morning! Join us for a bewitching bre
 w\,  spine-tingling treats\,  and ghoulishly fun conversations. Bring your 
 best business horror stories to tell around the haunted Palace breakout spa
 ce. Whether you’re here for the coffee[..]\nhttps://www.freedomworks.spac
 e/events/the-haunted-palace-coffee-morning/
URL:https://www.freedomworks.space/events/the-haunted-palace-coffee-morning/
END:VEVENT
END:VCALENDAR