BEGIN:VCALENDAR
VERSION:2.0
PRODID:-//eventon.com NONSGML v1.0//EN
CALSCALE:GREGORIAN
METHOD:PUBLISH
BEGIN:VEVENT
UID:69e8d9101f41d
DTSTAMP:20260422T142000Z
DTSTART:20260429T183000Z
DTEND:20260429T203000Z
LOCATION:Freedom Works Brighton - Barts House Bartholomew House\,  Bartholomew Square\,  Brighton and Hove\,  Brighton BN1 1JE
SUMMARY:Green SEO Meet-Up Brighton
DESCRIPTION:We’re pleased to be supporting an upcoming #GreenSEO event ta
 king place at Freedom Works Ltd Brighton &#x1f33f; If you’re interested i
 n digital sustainability\,  it’s set to be a great evening with some fant
 astic speakers and discussion: &#x1f7e2; Dawn Regan – Back to our roots: 
 Why and how? The GreenSEO Top[..]\nhttps://www.freedomworks.space/events/gr
 een-seo-meet-up-brighton/
URL:https://www.freedomworks.space/events/green-seo-meet-up-brighton/
END:VEVENT
END:VCALENDAR