BEGIN:VCALENDAR
VERSION:2.0
PRODID:-//eventon.com NONSGML v1.0//EN
CALSCALE:GREGORIAN
METHOD:PUBLISH
BEGIN:VEVENT
UID:69e8d67882ed7
DTSTAMP:20260422T140856Z
DTSTART:20260519T120000Z
DTEND:20260519T140000Z
LOCATION:Freedom Works Fairmount House Freedom Works Fairmount House
SUMMARY:Mole Valley Business Networking Event
DESCRIPTION:Join us this May for Mole Valley For Business Networking! &#x1f
 4c5; Wednesday 19 May 2026 &#x23f0; 12:00 PM – 2:00 PM &#x1f4cd; Freedom 
 Works\,  Fairmount House\,  Bull Hill\,  Leatherhead\,  KT22 7AH This event
  is a great opportunity to connect with other local businesses\,  hear from
  an expert guest speaker\,  and[..]\nhttps://www.freedomworks.space/events/
 mole-valley-business-networking-event/
URL:https://www.freedomworks.space/events/mole-valley-business-networking-event/
END:VEVENT
END:VCALENDAR